BEGIN:VCALENDAR
VERSION:2.0
PRODID:-//Citrus Gardens - ECPv6.15.20//NONSGML v1.0//EN
CALSCALE:GREGORIAN
METHOD:PUBLISH
X-WR-CALNAME:Citrus Gardens
X-ORIGINAL-URL:https://citrusgardensaz.com
X-WR-CALDESC:Events for Citrus Gardens
REFRESH-INTERVAL;VALUE=DURATION:PT1H
X-Robots-Tag:noindex
X-PUBLISHED-TTL:PT1H
BEGIN:VTIMEZONE
TZID:America/Phoenix
BEGIN:STANDARD
TZOFFSETFROM:-0700
TZOFFSETTO:-0700
TZNAME:MST
DTSTART:20240101T000000
END:STANDARD
END:VTIMEZONE
BEGIN:VEVENT
DTSTART;TZID=America/Phoenix:20250121T074500
DTEND;TZID=America/Phoenix:20250121T083000
DTSTAMP:20260420T035708
CREATED:20241112T183920Z
LAST-MODIFIED:20250121T090526Z
UID:13730-1737445500-1737448200@citrusgardensaz.com
SUMMARY:Senior Exercise
DESCRIPTION:Activity Leader: Glenna Erickson
URL:https://citrusgardensaz.com/event/senior-exercise-124/
LOCATION:SH
END:VEVENT
BEGIN:VEVENT
DTSTART;TZID=America/Phoenix:20250120T183000
DTEND;TZID=America/Phoenix:20250120T210000
DTSTAMP:20260420T035708
CREATED:20241112T183919Z
LAST-MODIFIED:20250120T090547Z
UID:13729-1737397800-1737406800@citrusgardensaz.com
SUMMARY:Mexican Train
DESCRIPTION:Activity Leader: Dick Beard
URL:https://citrusgardensaz.com/event/mexican-train-60/
LOCATION:SH
END:VEVENT
BEGIN:VEVENT
DTSTART;TZID=America/Phoenix:20250120T183000
DTEND;TZID=America/Phoenix:20250120T193000
DTSTAMP:20260420T035708
CREATED:20241112T183918Z
LAST-MODIFIED:20250120T090546Z
UID:13727-1737397800-1737401400@citrusgardensaz.com
SUMMARY:Line Dancing w/ Gwen
DESCRIPTION:Activity Leader: Gwen Beatty
URL:https://citrusgardensaz.com/event/line-dancing-w-gwen-62/
LOCATION:SH
END:VEVENT
BEGIN:VEVENT
DTSTART;TZID=America/Phoenix:20250120T130000
DTEND;TZID=America/Phoenix:20250120T150000
DTSTAMP:20260420T035708
CREATED:20241112T183918Z
LAST-MODIFIED:20250120T090546Z
UID:13726-1737378000-1737385200@citrusgardensaz.com
SUMMARY:Jam Session
DESCRIPTION:Activity Leader: Charles Martin
URL:https://citrusgardensaz.com/event/jam-session-28/
LOCATION:SH
END:VEVENT
BEGIN:VEVENT
DTSTART;TZID=America/Phoenix:20250120T074500
DTEND;TZID=America/Phoenix:20250120T083000
DTSTAMP:20260420T035708
CREATED:20241112T183914Z
LAST-MODIFIED:20250120T090543Z
UID:13723-1737359100-1737361800@citrusgardensaz.com
SUMMARY:Senior Exercise
DESCRIPTION:Activity Leader: Glenna Erickson
URL:https://citrusgardensaz.com/event/senior-exercise-123/
LOCATION:SH
END:VEVENT
BEGIN:VEVENT
DTSTART;TZID=America/Phoenix:20250119T133000
DTEND;TZID=America/Phoenix:20250119T153000
DTSTAMP:20260420T035708
CREATED:20241112T183913Z
LAST-MODIFIED:20241125T212757Z
UID:13722-1737293400-1737300600@citrusgardensaz.com
SUMMARY:Cornhole
DESCRIPTION:Activity Leader: Dick Beard
URL:https://citrusgardensaz.com/event/cornhole-179/
LOCATION:SH
END:VEVENT
BEGIN:VEVENT
DTSTART;TZID=America/Phoenix:20250118T173000
DTEND;TZID=America/Phoenix:20250118T203000
DTSTAMP:20260420T035708
CREATED:20241112T183846Z
LAST-MODIFIED:20250118T083947Z
UID:13720-1737221400-1737232200@citrusgardensaz.com
SUMMARY:Game Night & Potluck
DESCRIPTION:Activity Leader: Gwen Beatty
URL:https://citrusgardensaz.com/event/game-night-potluck-21/
LOCATION:SH
END:VEVENT
BEGIN:VEVENT
DTSTART;TZID=America/Phoenix:20250117T183000
DTEND;TZID=America/Phoenix:20250117T213000
DTSTAMP:20260420T035708
CREATED:20241112T183842Z
LAST-MODIFIED:20250117T082529Z
UID:13717-1737138600-1737149400@citrusgardensaz.com
SUMMARY:Karaoke
DESCRIPTION:Activity Leader: Philip Cross\nJoin with Google Meet: https://meet.google.com/xmq-twfu-cnp\nLearn more about Meet at: https://support.google.com/a/users/answer/9282720
URL:https://citrusgardensaz.com/event/karaoke-40/
LOCATION:SH
END:VEVENT
BEGIN:VEVENT
DTSTART;TZID=America/Phoenix:20250115T190000
DTEND;TZID=America/Phoenix:20250115T200000
DTSTAMP:20260420T035708
CREATED:20241111T182539Z
LAST-MODIFIED:20250115T080810Z
UID:13705-1736967600-1736971200@citrusgardensaz.com
SUMMARY:Interm Line Dancing
DESCRIPTION:Activity Leader: Marie Thompson
URL:https://citrusgardensaz.com/event/interm-line-dancing-21/
LOCATION:SH
END:VEVENT
BEGIN:VEVENT
DTSTART;TZID=America/Phoenix:20250115T170000
DTEND;TZID=America/Phoenix:20250115T183000
DTSTAMP:20260420T035708
CREATED:20241110T182305Z
LAST-MODIFIED:20250115T080810Z
UID:13698-1736960400-1736965800@citrusgardensaz.com
SUMMARY:Texas Potluck
DESCRIPTION:Activity Leader: Glenna Erickson
URL:https://citrusgardensaz.com/event/texas-potluck-4/
LOCATION:SH
END:VEVENT
BEGIN:VEVENT
DTSTART;TZID=America/Phoenix:20250115T110000
DTEND;TZID=America/Phoenix:20250115T130000
DTSTAMP:20260420T035708
CREATED:20241110T182304Z
LAST-MODIFIED:20250115T080809Z
UID:13697-1736938800-1736946000@citrusgardensaz.com
SUMMARY:Flip n Flop
DESCRIPTION:Activity Leaders: JoAnn Wells & Jan Asplund
URL:https://citrusgardensaz.com/event/flip-n-flop-4/
LOCATION:SH
END:VEVENT
BEGIN:VEVENT
DTSTART;TZID=America/Phoenix:20250115T074500
DTEND;TZID=America/Phoenix:20250115T083000
DTSTAMP:20260420T035708
CREATED:20241109T181056Z
LAST-MODIFIED:20250115T080808Z
UID:13686-1736927100-1736929800@citrusgardensaz.com
SUMMARY:Senior Exercise
DESCRIPTION:Activity Leader: Glenna Erickson
URL:https://citrusgardensaz.com/event/senior-exercise-122/
LOCATION:SH
END:VEVENT
BEGIN:VEVENT
DTSTART;TZID=America/Phoenix:20250114T170000
DTEND;TZID=America/Phoenix:20250114T213000
DTSTAMP:20260420T035708
CREATED:20241109T181054Z
LAST-MODIFIED:20241125T212722Z
UID:13684-1736874000-1736890200@citrusgardensaz.com
SUMMARY:Bingo
DESCRIPTION:Activity Leaders:\nCharles Martin\nAlan Platt
URL:https://citrusgardensaz.com/event/bingo-26/
LOCATION:SH
END:VEVENT
BEGIN:VEVENT
DTSTART;TZID=America/Phoenix:20250114T133000
DTEND;TZID=America/Phoenix:20250114T153000
DTSTAMP:20260420T035708
CREATED:20241108T175622Z
LAST-MODIFIED:20241125T212721Z
UID:13662-1736861400-1736868600@citrusgardensaz.com
SUMMARY:Cornhole
DESCRIPTION:Activity Leader: Dick Beard
URL:https://citrusgardensaz.com/event/cornhole-178/
LOCATION:SH
END:VEVENT
BEGIN:VEVENT
DTSTART;TZID=America/Phoenix:20250114T110000
DTEND;TZID=America/Phoenix:20250114T123000
DTSTAMP:20260420T035708
CREATED:20241108T175604Z
LAST-MODIFIED:20241109T181051Z
UID:13660-1736852400-1736857800@citrusgardensaz.com
SUMMARY:Line Dancing 101
DESCRIPTION:Activity Leader: Marie Thompson
URL:https://citrusgardensaz.com/event/line-dancing-101-10/
LOCATION:SH
END:VEVENT
BEGIN:VEVENT
DTSTART;TZID=America/Phoenix:20250114T110000
DTEND;TZID=America/Phoenix:20250114T120000
DTSTAMP:20260420T035708
CREATED:20250103T053607Z
LAST-MODIFIED:20250114T075945Z
UID:14565-1736852400-1736856000@citrusgardensaz.com
SUMMARY:CG Line Dancing 101
DESCRIPTION:Activity Leader: Marie Thompson
URL:https://citrusgardensaz.com/event/cg-line-dancing-101-2/
LOCATION:SH
END:VEVENT
BEGIN:VEVENT
DTSTART;TZID=America/Phoenix:20250114T110000
DTEND;TZID=America/Phoenix:20250114T120000
DTSTAMP:20260420T035708
CREATED:20241110T182301Z
LAST-MODIFIED:20250102T052236Z
UID:13691-1736852400-1736856000@citrusgardensaz.com
SUMMARY:Line Dancing 101
DESCRIPTION:Activity Leader: Marie Thompson
URL:https://citrusgardensaz.com/event/line-dancing-101-13/
LOCATION:SH
END:VEVENT
BEGIN:VEVENT
DTSTART;TZID=America/Phoenix:20250114T093000
DTEND;TZID=America/Phoenix:20250114T110000
DTSTAMP:20260420T035708
CREATED:20241108T175605Z
LAST-MODIFIED:20241118T193851Z
UID:13661-1736847000-1736852400@citrusgardensaz.com
SUMMARY:Quilting
DESCRIPTION:Activity Leader: Carolynne Nickel
URL:https://citrusgardensaz.com/event/quilting-32/
LOCATION:SH
END:VEVENT
BEGIN:VEVENT
DTSTART;TZID=America/Phoenix:20250114T090000
DTEND;TZID=America/Phoenix:20250114T103000
DTSTAMP:20260420T035708
CREATED:20241119T195431Z
LAST-MODIFIED:20250114T075944Z
UID:13818-1736845200-1736850600@citrusgardensaz.com
SUMMARY:Quilting
DESCRIPTION:Activity Leader: Carolynne Nickel
URL:https://citrusgardensaz.com/event/quilting-41/
LOCATION:SH
END:VEVENT
BEGIN:VEVENT
DTSTART;TZID=America/Phoenix:20250114T074500
DTEND;TZID=America/Phoenix:20250114T083000
DTSTAMP:20260420T035708
CREATED:20241107T173856Z
LAST-MODIFIED:20250114T075943Z
UID:13651-1736840700-1736843400@citrusgardensaz.com
SUMMARY:Senior Exercise
DESCRIPTION:Activity Leader: Glenna Erickson
URL:https://citrusgardensaz.com/event/senior-exercise-121/
LOCATION:SH
END:VEVENT
BEGIN:VEVENT
DTSTART;TZID=America/Phoenix:20250113T183000
DTEND;TZID=America/Phoenix:20250113T210000
DTSTAMP:20260420T035708
CREATED:20241106T172420Z
LAST-MODIFIED:20250113T073624Z
UID:13640-1736793000-1736802000@citrusgardensaz.com
SUMMARY:Mexican Train
DESCRIPTION:Activity Leader: Dick Beard
URL:https://citrusgardensaz.com/event/mexican-train-59/
LOCATION:SH
END:VEVENT
BEGIN:VEVENT
DTSTART;TZID=America/Phoenix:20250113T183000
DTEND;TZID=America/Phoenix:20250113T193000
DTSTAMP:20260420T035708
CREATED:20241107T173856Z
LAST-MODIFIED:20250113T073623Z
UID:13650-1736793000-1736796600@citrusgardensaz.com
SUMMARY:Line Dancing w/ Gwen
DESCRIPTION:Activity Leader: Gwen Beatty
URL:https://citrusgardensaz.com/event/line-dancing-w-gwen-61/
LOCATION:SH
END:VEVENT
BEGIN:VEVENT
DTSTART;TZID=America/Phoenix:20250113T130000
DTEND;TZID=America/Phoenix:20250113T150000
DTSTAMP:20260420T035708
CREATED:20241106T172403Z
LAST-MODIFIED:20250113T073623Z
UID:13638-1736773200-1736780400@citrusgardensaz.com
SUMMARY:Jam Session
DESCRIPTION:Activity Leader: Charles Martin
URL:https://citrusgardensaz.com/event/jam-session-27/
LOCATION:SH
END:VEVENT
BEGIN:VEVENT
DTSTART;TZID=America/Phoenix:20250113T074500
DTEND;TZID=America/Phoenix:20250113T083000
DTSTAMP:20260420T035708
CREATED:20241106T172401Z
LAST-MODIFIED:20250113T073621Z
UID:13636-1736754300-1736757000@citrusgardensaz.com
SUMMARY:Senior Exercise
DESCRIPTION:Activity Leader: Glenna Erickson
URL:https://citrusgardensaz.com/event/senior-exercise-120/
LOCATION:SH
END:VEVENT
BEGIN:VEVENT
DTSTART;TZID=America/Phoenix:20250112T133000
DTEND;TZID=America/Phoenix:20250112T153000
DTSTAMP:20260420T035708
CREATED:20241105T171306Z
LAST-MODIFIED:20241125T212702Z
UID:13625-1736688600-1736695800@citrusgardensaz.com
SUMMARY:Cornhole
DESCRIPTION:Activity Leader: Dick Beard
URL:https://citrusgardensaz.com/event/cornhole-177/
LOCATION:SH
END:VEVENT
BEGIN:VEVENT
DTSTART;TZID=America/Phoenix:20250111T100000
DTEND;TZID=America/Phoenix:20250111T130000
DTSTAMP:20260420T035708
CREATED:20241105T171301Z
LAST-MODIFIED:20250111T070602Z
UID:13621-1736589600-1736600400@citrusgardensaz.com
SUMMARY:Country Store
DESCRIPTION:Activity Leader: Jani Ehlers
URL:https://citrusgardensaz.com/event/country-store-13/
LOCATION:SH
END:VEVENT
BEGIN:VEVENT
DTSTART;TZID=America/Phoenix:20250108T190000
DTEND;TZID=America/Phoenix:20250108T200000
DTSTAMP:20260420T035708
CREATED:20241103T163859Z
LAST-MODIFIED:20250108T062436Z
UID:13595-1736362800-1736366400@citrusgardensaz.com
SUMMARY:Interm Line Dancing
DESCRIPTION:Activity Leader: Marie Thompson
URL:https://citrusgardensaz.com/event/interm-line-dancing-20/
LOCATION:SH
END:VEVENT
BEGIN:VEVENT
DTSTART;TZID=America/Phoenix:20250108T140000
DTEND;TZID=America/Phoenix:20250108T163000
DTSTAMP:20260420T035708
CREATED:20241103T163857Z
LAST-MODIFIED:20250108T062435Z
UID:13593-1736344800-1736353800@citrusgardensaz.com
SUMMARY:Painting Class
DESCRIPTION:Activity Leader: Kristen Hanson
URL:https://citrusgardensaz.com/event/painting-class-15/
LOCATION:SH
END:VEVENT
BEGIN:VEVENT
DTSTART;TZID=America/Phoenix:20250108T103000
DTEND;TZID=America/Phoenix:20250108T113000
DTSTAMP:20260420T035708
CREATED:20241026T151039Z
LAST-MODIFIED:20250108T062434Z
UID:13481-1736332200-1736335800@citrusgardensaz.com
SUMMARY:Ladies in Red Social Mtg
DESCRIPTION:Activity Leader: Vicky Garcia
URL:https://citrusgardensaz.com/event/ladies-in-red-social-mtg-2/
LOCATION:SH
END:VEVENT
BEGIN:VEVENT
DTSTART;TZID=America/Phoenix:20250108T074500
DTEND;TZID=America/Phoenix:20250108T083000
DTSTAMP:20260420T035708
CREATED:20241103T163854Z
LAST-MODIFIED:20250108T062432Z
UID:13591-1736322300-1736325000@citrusgardensaz.com
SUMMARY:Senior Exercise
DESCRIPTION:Activity Leader: Glenna Erickson
URL:https://citrusgardensaz.com/event/senior-exercise-119/
LOCATION:SH
END:VEVENT
END:VCALENDAR